BEGIN:VCALENDAR
VERSION:2.0
PRODID:-//Kobrand Wine &amp; Spirits - ECPv5.16.4//NONSGML v1.0//EN
CALSCALE:GREGORIAN
METHOD:PUBLISH
X-ORIGINAL-URL:https://www.kobrandwineandspirits.com
X-WR-CALDESC:Events for Kobrand Wine &amp; Spirits
REFRESH-INTERVAL;VALUE=DURATION:PT1H
X-Robots-Tag:noindex
X-PUBLISHED-TTL:PT1H
BEGIN:VTIMEZONE
TZID:America/New_York
BEGIN:DAYLIGHT
TZOFFSETFROM:-0500
TZOFFSETTO:-0400
TZNAME:EDT
DTSTART:20260308T070000
END:DAYLIGHT
BEGIN:STANDARD
TZOFFSETFROM:-0400
TZOFFSETTO:-0500
TZNAME:EST
DTSTART:20261101T060000
END:STANDARD
END:VTIMEZONE
BEGIN:VEVENT
DTSTART;VALUE=DATE:20260514
DTEND;VALUE=DATE:20260518
DTSTAMP:20260419T115643
CREATED:20260326T134037Z
LAST-MODIFIED:20260326T134037Z
UID:115380-1778716800-1779062399@www.kobrandwineandspirits.com
SUMMARY:Vinous Icons: Italy - New York City
DESCRIPTION:
URL:https://www.kobrandwineandspirits.com/event-info/vinous-icons-italy-new-york-city/
LOCATION:Hall des Lumières\, 49 Chambers Street\, New York\, NY\, 10007\, United States
CATEGORIES:Wine Events
ATTACH;FMTTYPE=image/png:https://www.kobrandwineandspirits.com/wp-content/uploads/2021/10/Vinous.png
END:VEVENT
END:VCALENDAR