BEGIN:VCALENDAR
VERSION:2.0
PRODID:-//Kobrand Wine &amp; Spirits - ECPv5.16.4//NONSGML v1.0//EN
CALSCALE:GREGORIAN
METHOD:PUBLISH
X-ORIGINAL-URL:https://www.kobrandwineandspirits.com
X-WR-CALDESC:Events for Kobrand Wine &amp; Spirits
REFRESH-INTERVAL;VALUE=DURATION:PT1H
X-Robots-Tag:noindex
X-PUBLISHED-TTL:PT1H
BEGIN:VTIMEZONE
TZID:America/New_York
BEGIN:DAYLIGHT
TZOFFSETFROM:-0500
TZOFFSETTO:-0400
TZNAME:EDT
DTSTART:20260308T070000
END:DAYLIGHT
BEGIN:STANDARD
TZOFFSETFROM:-0400
TZOFFSETTO:-0500
TZNAME:EST
DTSTART:20261101T060000
END:STANDARD
END:VTIMEZONE
BEGIN:VEVENT
DTSTART;VALUE=DATE:20260527
DTEND;VALUE=DATE:20260601
DTSTAMP:20260419T104909
CREATED:20260326T133749Z
LAST-MODIFIED:20260326T133749Z
UID:115378-1779840000-1780271999@www.kobrandwineandspirits.com
SUMMARY:Nantucket Wine & Food
DESCRIPTION:Each year\, Nantucket Wine & Food features a carefully curated collection of the world’s best wineries. We strive to offer a well-rounded portfolio\, representing the major wine regions around the globe. We hunt for exciting new producers to bring to the island each year to keep the experience fresh and exciting.
URL:https://www.kobrandwineandspirits.com/event-info/nantucket-wine-food/
CATEGORIES:Wine Events
ATTACH;FMTTYPE=image/jpeg:https://www.kobrandwineandspirits.com/wp-content/uploads/2022/04/Nantucket-Logo.jpg
END:VEVENT
END:VCALENDAR