BEGIN:VCALENDAR
VERSION:2.0
PRODID:-//Kobrand Wine &amp; Spirits - ECPv5.16.4//NONSGML v1.0//EN
CALSCALE:GREGORIAN
METHOD:PUBLISH
X-ORIGINAL-URL:https://www.kobrandwineandspirits.com
X-WR-CALDESC:Events for Kobrand Wine &amp; Spirits
REFRESH-INTERVAL;VALUE=DURATION:PT1H
X-Robots-Tag:noindex
X-PUBLISHED-TTL:PT1H
BEGIN:VTIMEZONE
TZID:America/New_York
BEGIN:DAYLIGHT
TZOFFSETFROM:-0500
TZOFFSETTO:-0400
TZNAME:EDT
DTSTART:20260308T070000
END:DAYLIGHT
BEGIN:STANDARD
TZOFFSETFROM:-0400
TZOFFSETTO:-0500
TZNAME:EST
DTSTART:20261101T060000
END:STANDARD
END:VTIMEZONE
BEGIN:VEVENT
DTSTART;VALUE=DATE:20260612
DTEND;VALUE=DATE:20260613
DTSTAMP:20260422T161754
CREATED:20260408T144539Z
LAST-MODIFIED:20260408T144539Z
UID:115740-1781222400-1781308799@www.kobrandwineandspirits.com
SUMMARY:FIFA Club World Cup Opener
DESCRIPTION:FIFA and Taittinger are delighted to announce the extension of their relationship\, taking the Official Champagne collaboration through to the end of 2030.
URL:https://www.kobrandwineandspirits.com/event-info/fifa-club-world-cup-opener/
LOCATION:SoFi Stadium\, 3883 West Century Boulevard\, Inglewood\, CA\, United States
CATEGORIES:Wine Events
ATTACH;FMTTYPE=image/png:https://www.kobrandwineandspirits.com/wp-content/uploads/2026/04/FIFA-World-Cup-Logo.png
END:VEVENT
END:VCALENDAR