BEGIN:VCALENDAR
VERSION:2.0
PRODID:-//Kobrand Wine &amp; Spirits - ECPv5.16.4//NONSGML v1.0//EN
CALSCALE:GREGORIAN
METHOD:PUBLISH
X-ORIGINAL-URL:https://www.kobrandwineandspirits.com
X-WR-CALDESC:Events for Kobrand Wine &amp; Spirits
REFRESH-INTERVAL;VALUE=DURATION:PT1H
X-Robots-Tag:noindex
X-PUBLISHED-TTL:PT1H
BEGIN:VTIMEZONE
TZID:America/New_York
BEGIN:DAYLIGHT
TZOFFSETFROM:-0500
TZOFFSETTO:-0400
TZNAME:EDT
DTSTART:20260308T070000
END:DAYLIGHT
BEGIN:STANDARD
TZOFFSETFROM:-0400
TZOFFSETTO:-0500
TZNAME:EST
DTSTART:20261101T060000
END:STANDARD
END:VTIMEZONE
BEGIN:VEVENT
DTSTART;VALUE=DATE:20260512
DTEND;VALUE=DATE:20260513
DTSTAMP:20260422T004031
CREATED:20260326T133527Z
LAST-MODIFIED:20260326T133527Z
UID:115374-1778544000-1778630399@www.kobrandwineandspirits.com
SUMMARY:Sip of South America: A Wine Enthusiast Event Series
DESCRIPTION:Wine Enthusiast is inviting you to discover\, learn\, and taste wines from across South America!
URL:https://www.kobrandwineandspirits.com/event-info/sip-of-south-america-a-wine-enthusiast-event-series/
LOCATION:Halo at 28 Liberty\, New York\, NY\, United States
CATEGORIES:Wine Events
ATTACH;FMTTYPE=image/jpeg:https://www.kobrandwineandspirits.com/wp-content/uploads/2026/03/sip-of-south-america-logo.jpg
END:VEVENT
END:VCALENDAR