BEGIN:VCALENDAR
VERSION:2.0
PRODID:-//Kobrand Wine &amp; Spirits - ECPv5.16.4//NONSGML v1.0//EN
CALSCALE:GREGORIAN
METHOD:PUBLISH
X-WR-CALNAME:Kobrand Wine &amp; Spirits
X-ORIGINAL-URL:https://www.kobrandwineandspirits.com
X-WR-CALDESC:Events for Kobrand Wine &amp; Spirits
REFRESH-INTERVAL;VALUE=DURATION:PT1H
X-Robots-Tag:noindex
X-PUBLISHED-TTL:PT1H
BEGIN:VTIMEZONE
TZID:America/New_York
BEGIN:DAYLIGHT
TZOFFSETFROM:-0500
TZOFFSETTO:-0400
TZNAME:EDT
DTSTART:20260308T070000
END:DAYLIGHT
BEGIN:STANDARD
TZOFFSETFROM:-0400
TZOFFSETTO:-0500
TZNAME:EST
DTSTART:20261101T060000
END:STANDARD
END:VTIMEZONE
BEGIN:VEVENT
DTSTART;VALUE=DATE:20260412
DTEND;VALUE=DATE:20260415
DTSTAMP:20260421T225109
CREATED:20260320T194242Z
LAST-MODIFIED:20260320T194242Z
UID:115243-1775952000-1776211199@www.kobrandwineandspirits.com
SUMMARY:SommCon
DESCRIPTION:SommCon unites producers\, importers\, distributors\, and service providers with the buyers and decision-makers who shape the U.S. beverage market. \nAt the Beverage Expo\, gain direct access to on-premise and off-premise buyers\, beverage directors\, wholesalers\, educators\, sommeliers\, bartenders\, and media across every category – wine\, beer\, spirits\, RTDs\, and low/no.
URL:https://www.kobrandwineandspirits.com/event-info/sommcon/
LOCATION:The Westin Georgetown\, 2350 M St. NW\, DC\, 20037\, United States
CATEGORIES:Wine Events
ATTACH;FMTTYPE=image/jpeg:https://www.kobrandwineandspirits.com/wp-content/uploads/2015/09/SommConLogo.jpg
END:VEVENT
BEGIN:VEVENT
DTSTART;VALUE=DATE:20260412
DTEND;VALUE=DATE:20260416
DTSTAMP:20260421T225109
CREATED:20260320T194613Z
LAST-MODIFIED:20260320T194613Z
UID:115247-1775952000-1776297599@www.kobrandwineandspirits.com
SUMMARY:Vinitaly
DESCRIPTION:For 58 years\, Verona has been the home of Vinitaly: the place where the global wine industry comes together for four days dedicated to business\, networking\, and the sharing of knowledge and expertise.
URL:https://www.kobrandwineandspirits.com/event-info/vinitaly/
LOCATION:CA
CATEGORIES:Wine Events
ATTACH;FMTTYPE=image/png:https://www.kobrandwineandspirits.com/wp-content/uploads/2025/01/Logo-Vinitaly-200px.png
END:VEVENT
END:VCALENDAR